BEGIN:VCALENDAR
VERSION:2.0
PRODID:-//Fundem - ECPv6.8.3//NONSGML v1.0//EN
CALSCALE:GREGORIAN
METHOD:PUBLISH
X-ORIGINAL-URL:https://fundem.org/wp
X-WR-CALDESC:Eventos para Fundem
REFRESH-INTERVAL;VALUE=DURATION:PT1H
X-Robots-Tag:noindex
X-PUBLISHED-TTL:PT1H
BEGIN:VTIMEZONE
TZID:Europe/Madrid
BEGIN:DAYLIGHT
TZOFFSETFROM:+0100
TZOFFSETTO:+0200
TZNAME:CEST
DTSTART:20220327T010000
END:DAYLIGHT
BEGIN:STANDARD
TZOFFSETFROM:+0200
TZOFFSETTO:+0100
TZNAME:CET
DTSTART:20221030T010000
END:STANDARD
END:VTIMEZONE
BEGIN:VEVENT
DTSTART;TZID=Europe/Madrid:20220529T110000
DTEND;TZID=Europe/Madrid:20220529T110000
DTSTAMP:20260424T174118
CREATED:20220505T093357Z
LAST-MODIFIED:20220511T082121Z
UID:4151-1653822000-1653822000@fundem.org
SUMMARY:Concierto Día del Socio
DESCRIPTION:Celebramos el día del Socio de FUNDEM con este concierto en agradecimiento a todos los colaboradores de nuestra fundación. \nLo haremos con un recital de la soprano Mireia Lallart y la pianista Elena Font. \n¿Ya tienes tu entrada? \nDonación: 15€\nSocios Fundem: gratuito \nPuedes adquirir tu entrada en los siguientes puntos;\n-Jardin Albarda de 10h-14h\n-Casa Cultura del @ajuntpedreguer.\n-Librería Publics Denia @publicslibreria\n-Jardin sostenible @jardinsostenible.eu \nPara más información y reservas Telf/whatsapp 696975290\nOs esperamos!
URL:https://fundem.org/wp/event/concierto-dia-del-socio/
LOCATION:Jardín de l’Albarda\, c/ Baix Vinalopó\,8\, Pedreguer\, Alicante\, 03750\, España
CATEGORIES:Concierto
ATTACH;FMTTYPE=image/jpeg:https://fundem.org/wp/wp-content/uploads/2022/05/diadelsocio.jpg
ORGANIZER;CN="FUNDEM":MAILTO:fundem@fundem.org
END:VEVENT
END:VCALENDAR